Workbook

Sheet 총괄
B2: 2018년도 국외 고등교육기관 한국인 유학생 통계
B4: (대학 이상)
B6: 1. 총괄
B8: 가. 연도별 유학생수
J9: (매년 4.1 기준, 단위 : 명)
B10: 연도 | C10: 2008년도 | D10: 2009년도 | E10: 2010년도 | F10: 2011년도 | G10: 2012년도 | H10: 2013년도 | I10: 2014년도 | J10: 2015년 | K10: 2016년 | L10: 2017년 | M10: 2018년
B11: 유학생수 | C11: 216867 | D11: 240949 | E11: 251887 | F11: 262465 | G11: 239213 | H11: 227126 | I11: 219543 | J11: 214696 | K11: =연도별!L152 -> 223908 | L11: =연도별!M152 -> 239824 | M11: =연도별!N152 -> 220930
B30: 나. 지역별 유학생수
G31: (2018.4.1 기준, 단위 ; 명)
B32: 지역 | C32: 어학연수 | D32: 학위과정 | G32: 기타연수 | H32: 합계
D33: 대학 | E33: 대학원 | F33: 소계
B34: 아시아·오세아니아 | C34: =과정별!D35 -> 10301 | D34: =과정별!E35 -> 50753 | E34: =과정별!F35 -> 7415 | F34: =과정별!G35 -> 58168 | G34: =과정별!H35 -> 44664 | H34: =C34+F34+G34 -> 113133
B35: 북미 | C35: =과정별!D39 -> 15162 | D35: =과정별!E39 -> 31418 | E35: =과정별!F39 -> 16647 | F35: =과정별!G39 -> 48065 | G35: =과정별!H39 -> 7798 | H35: =C35+F35+G35 -> 71025
B36: 중남미 | C36: =과정별!D62 -> 296 | D36: =과정별!E62 -> 82 | E36: =과정별!F62 -> 39 | F36: =과정별!G62 -> 121 | G36: =과정별!H62 -> 68 | H36: =C36+F36+G36 -> 485
B37: 유럽 | C37: =과정별!D103 -> 12547 | D37: =과정별!E103 -> 9094 | E37: =과정별!F103 -> 7836 | F37: =과정별!G103 -> 16930 | G37: =과정별!H103 -> 6033 | H37: =C37+F37+G37 -> 35510
B38: 중동 | C38: =과정별!D118 -> 55 | D38: =과정별!E118 -> 136 | E38: =과정별!F118 -> 85 | F38: =과정별!G118 -> 221 | G38: =과정별!H118 -> 132 | H38: =C38+F38+G38 -> 408
B39: 아프리카 | C39: =과정별!D150 -> 71 | D39: =과정별!E150 -> 208 | E39: =과정별!F150 -> 82 | F39: =과정별!G150 -> 290 | G39: =과정별!H150 -> 8 | H39: =C39+F39+G39 -> 369
B40: 합계 | C40: =SUM(C34:C39) -> 38432 | D40: =SUM(D34:D39) -> 91691 | E40: =SUM(E34:E39) -> 32104 | F40: =SUM(F34:F39) -> 123795 | G40: =SUM(G34:G39) -> 58703 | H40: =C40+F40+G40 -> 220930
B59: 다. 주요 국가별 현황
K60: (매년 4.1 기준, 단위 : 명)
B61: 연도 | C61: 미국 | D61: 중국 | E61: 영국 | F61: 호주 | G61: 일본 | H61: 캐나다 | I61: 뉴질랜드 | J61: 독일 | K61: 기타 | L61: 계
B62: 2017 | C62: 61007 | D62: 73240 | E62: 11065 | F62: 16770 | G62: 15457 | H62: 8735 | I62: 6060 | J62: 6087 | K62: 41403 | L62: 239824
B63: 비율(%) | C63: 25.438238 | D63: 30.539062 | E63: 4.6138001 | F63: 6.9926279 | G63: 6.4451431 | H63: 3.6422543 | I63: 2.526853 | J63: 2.5 | K63: 17.3 | L63: 100
B64: 2018 | C64: =과정별!I37 -> 58663 | D64: =과정별!I22 -> 63827 | E64: =과정별!I89 -> 10717 | F64: =과정별!I34 -> 16801 | G64: =과정별!I21 -> 15740 | H64: =과정별!I38 -> 12279 | I64: =과정별!I6 -> 5178 | J64: =과정별!I67 -> 6527 | K64: =L64-SUM(C64:J64) -> 31198 | L64: =H40 -> 220930
B65: 비율(%) | C65: =(C64/L64)*100 -> 26.552754 | D65: =(D64/L64)*100 -> 28.890146 | E65: =(E64/L64)*100 -> 4.8508577 | F65: =(F64/L64)*100 -> 7.6046712 | G65: =(G64/L64)*100 -> 7.1244286 | H65: =(H64/L64)*100 -> 5.557869 | I65: =(I64/L64)*100 -> 2.3437288 | J65: =(J64/L64)*100 -> 2.9543294 | K65: =(K64/L64)*100 -> 14.121215 | L65: =SUM(C65:K65) -> 100

Sheet 연도별
B1: 2. 연도별 한국인 유학생 현황
I2: (매년 4.1 기준, 단위 : 명)
B3: 지역 | C3: 국가 | D3: 2008년 | E3: 2009년 | F3: 2010년 | G3: 2011년 | H3: 2012년 | I3: 2013년 | J3: 2014년 | K3: 2015년 | L3: 2016년 | M3: 2017년 | N3: 2018년
B4: 아시아·오세아니아 | C4: 네팔 | D4: 1 | E4: 52 | F4: 4 | G4: 3 | H4: 167 | I4: 106 | J4: 171 | K4: 207 | L4: 206 | M4: 217 | N4: 190
C5: 뉴질랜드 | D5: 10183 | E5: 10992 | F5: 10992 | G5: 10289 | H5: 8033 | I5: 6271 | J5: 3556 | K5: 3097 | L5: 4051 | M5: 6060 | N5: 5178
C6: 대만 | D6: 1505 | E6: 1541 | F6: 1590 | G6: 1624 | H6: 1920 | I6: 1831 | J6: 2834 | K6: 2444 | L6: 3820 | M6: 4615 | N6: 4553
C7: 동티모르 | D7: 0 | E7: 0 | F7: 0 | G7: 0 | H7: 0 | I7: 0 | J7: 0 | K7: 2 | L7: 2 | M7: 3 | N7: 3
C8: 라오스 | D8: 5 | E8: 0 | F8: 13 | G8: 28 | H8: 48 | J8: 50 | K8: 25 | L8: 57 | M8: 52 | N8: 37
C9: 말레이시아 | D9: 830 | E9: 730 | F9: 713 | J9: 1182 | K9: 803 | L9: 1272 | M9: 1231 | N9: 1536
C10: 몽골 | D10: 130 | E10: 125 | F10: 135 | G10: 158 | H10: 158 | I10: 201 | J10: 203 | K10: 176 | L10: 137 | M10: 132 | N10: 135
C11: 미얀마 | D11: 23 | E11: 32 | F11: 24 | G11: 25 | H11: 37 | I11: 48 | J11: 48 | K11: 0 | L11: 88 | M11: 97 | N11: 87
C12: 바누아투 | D12: 0 | E12: 0 | F12: 0 | G12: 0 | H12: 0 | I12: 0 | J12: 0 | K12: 0 | L12: 0 | M12: 0
C13: 방글라데시 | D13: 1 | E13: 5 | F13: 5 | G13: 3 | H13: 0 | I13: 0 | J13: 0 | K13: 0 | L13: 0 | M13: 1 | N13: 3
C14: 베트남 | D14: 699 | E14: 534 | F14: 614 | G14: 840 | H14: 523 | I14: 319 | J14: 992 | K14: 992 | L14: 502 | M14: 695 | N14: 383
C15: 브루나이 | D15: 1 | E15: 1 | F15: 0 | G15: 0 | H15: 1 | I15: 6 | J15: 5 | K15: 2 | L15: 9 | M15: 8 | N15: 3
C16: 솔로몬제도 | D16: 0 | E16: 0 | F16: 0 | G16: 0 | H16: 0 | I16: 0 | J16: 0 | K16: 0 | L16: 0 | M16: 0
C17: 스리랑카 | D17: 71 | E17: 93 | F17: 138 | G17: 131 | H17: 157 | I17: 155 | J17: 98 | K17: 98 | L17: 90 | M17: 42 | N17: 28
C18: 싱가포르 | D18: 760 | E18: 106 | F18: 112 | G18: 144 | H18: 129 | I18: 281 | J18: 281 | L18: 600 | M18: 410 | N18: 1068
C19: 우즈베키스탄 | D19: 88 | E19: 120 | F19: 51 | G19: 85 | H19: 86 | I19: 55 | J19: 53 | K19: 19 | L19: 26 | M19: 18 | N19: 7
C20: 인도 | D20: 1175 | E20: 1378 | F20: 1086 | G20: 145 | H20: 543 | I20: 559 | J20: 656 | K20: 443 | L20: 291 | M20: 262 | N20: 267
C21: 인도네시아 | D21: 90 | E21: 69 | F21: 196 | G21: 288 | H21: 389 | I21: 267 | J21: 111 | K21: 345 | L21: 90 | M21: 61 | N21: 38
C22: 일본 | D22: 17274 | E22: 18862 | F22: 27965 | G22: 25692 | H22: 19994 | I22: 18919 | J22: 17283 | K22: 16374 | L22: 15279 | M22: 15457 | N22: 15740
C23: 중국 | D23: 57504 | E23: 66806 | F23: 64232 | G23: 62957 | H23: 62855 | I23: 63488 | J23: 63465 | K23: 62923 | L23: 66672 | M23: 73240 | N23: 63827
C24: 홍콩,마카오 | M24: 1344 | N24: 1453
C25: 카자흐스탄* | D25: 87 | E25: 113 | F25: 73 | G25: 73 | I25: 79 | J25: 151 | K25: 18 | L25: 168 | M25: 150 | N25: 114
C26: 캄보디아 | D26: 8 | E26: 22 | F26: 56 | G26: 72 | H26: 134 | I26: 57 | J26: 55 | K26: 59 | L26: 40 | M26: 52 | N26: 66
C27: 키르기스스탄 | D27: 88 | E27: 66 | F27: 118 | G27: 67 | H27: 84 | I27: 97 | J27: 74 | K27: 61 | L27: 92 | M27: 106 | N27: 156
C28: 타지키스탄 | D28: 0 | E28: 1 | F28: 0 | G28: 1 | H28: 7 | I28: 8 | J28: 8 | K28: 10 | L28: 14 | M28: 12 | N28: 13
C29: 태국 | D29: 188 | E29: 361 | F29: 420 | G29: 251 | H29: 600 | I29: 423 | J29: 601 | K29: 493 | L29: 445 | M29: 504 | N29: 492
C30: 투르크메니스탄 | D30: 0 | E30: 0 | F30: 0 | G30: 0 | H30: 0 | I30: 0 | J30: 0 | K30: 0 | L30: 0 | M30: 0 | N30: 0
C31: 파키스탄 | D31: 0 | E31: 1 | F31: 3 | G31: 2 | H31: 11 | I31: 12 | J31: 3 | K31: 0 | L31: 18 | M31: 8 | N31: 9
C32: 파푸아뉴기니 | D32: 0 | E32: 0 | F32: 0 | G32: 0 | I32: 0 | J32: 0 | K32: 0 | L32: 0 | M32: 0
C33: 피지 | D33: 40 | E33: 50 | F33: 40 | G33: 28 | H33: 101 | I33: 18 | J33: 38 | K33: 0 | L33: 25 | M33: 43 | N33: 46
C34: 필리핀** | D34: 1923 | E34: 2653 | F34: 2653 | G34: 3238 | H34: 3917 | I34: 4668 | J34: 7073 | K34: 1004 | L34: 3772 | M34: 13257 | N34: 900
C35: 호주 | D35: 16774 | E35: 18150 | F35: 17829 | G35: 33929 | H35: 17256 | I35: 14180 | J35: 14139 | K35: 14303 | L35: 16251 | M35: 16770 | N35: 16801
C36: 소계 | D36: =SUM(D4:D35) -> 109448 | E36: =SUM(E4:E35) -> 122863 | F36: =SUM(F4:F35) -> 129062 | G36: =SUM(G4:G35) -> 140073 | H36: =SUM(H4:H35) -> 117150 | I36: =SUM(I4:I35) -> 112048 | J36: =SUM(J4:J35) -> 113130 | K36: =SUM(K4:K35) -> 103898 | ... N36: =SUM(N4:N35) -> 113133
B37: 북미 | C37: 괌,북마리아나연방 | D37: 68 | E37: 0 | F37: 0 | G37: 121 | H37: 101 | I37: 93 | J37: 86 | K37: 89 | L37: 63 | M37: 93 | N37: 83
C38: 미국 | D38: 62392 | E38: 69124 | F38: 75065 | G38: 72153 | H38: 73351 | I38: 72295 | J38: 70627 | K38: 68105 | L38: 63710 | M38: 61007 | N38: 58663
C39: 캐나다 | D39: 10792 | E39: 15971 | F39: 14104 | G39: 15808 | H39: 20658 | I39: 12477 | J39: 9828 | K39: 10964 | L39: 10889 | M39: 8735 | N39: 12279
C40: 소계 | D40: =SUM(D37:D39) -> 73252 | E40: =SUM(E37:E39) -> 85095 | F40: =SUM(F37:F39) -> 89169 | G40: =SUM(G37:G39) -> 88082 | H40: =SUM(H37:H39) -> 94110 | I40: =SUM(I37:I39) -> 84865 | J40: =SUM(J37:J39) -> 80541 | K40: =SUM(K37:K39) -> 79158 | ... N40: =SUM(N37:N39) -> 71025
...

Sheet 과정별
B1: 3. 2018년 과정별 한국인 유학생 현황
H2: (2018.4.1 기준, 단위 ; 명)
B3: 지역 | C3: 국 가 | D3: 어학연수 | E3: 학 위 과 정 | H3: 기타연수 | I3: 합 계
E4: 대학 | F4: 대학원 | G4: 소계
B5: 아시아·오세아니아 | C5: 네팔 | D5: 153 | E5: 35 | F5: 0 | G5: =F5+E5 -> 35 | H5: 2 | I5: 190
C6: 뉴질랜드 | D6: 2561 | E6: 2552 | F6: 65 | G6: 2617 | H6: 0 | I6: 5178
C7: 대만 | D7: 2658 | E7: 568 | F7: 178 | G7: 746 | H7: 1149 | I7: 4553
C8: 동티모르 | D8: 0 | E8: 3 | F8: 0 | G8: 3 | H8: 0 | I8: 3
C9: 라오스 | D9: 15 | E9: 22 | F9: 0 | G9: 22 | H9: 0 | I9: 37
C10: 말레이시아 3) | E10: 1190 | F10: 29 | G10: 1219 | H10: 317 | I10: 1536
C11: 몽골 | D11: 19 | E11: 91 | F11: 25 | G11: 116 | H11: 0 | I11: 135
C12: 미얀마 | D12: 33 | E12: 50 | F12: 4 | G12: 54 | H12: 0 | I12: 87
C13: 방글라데시 | D13: 0 | E13: 1 | F13: 2 | G13: =F13+E13 -> 3 | H13: 0 | I13: 3
C14: 베트남 | D14: 50 | E14: 244 | F14: 9 | G14: =E14+F14 -> 253 | H14: 80 | I14: =D14+G14+H14 -> 383
C15: 브루나이 | D15: 0 | E15: 2 | F15: 1 | G15: 3 | H15: 0 | I15: 3
C16: 스리랑카 | D16: 16 | E16: 3 | F16: 9 | G16: 12 | H16: 0 | I16: 28
C17: 싱가포르 1) | E17: 1068 | G17: 1068 | I17: 1068
C18: 우즈베키스탄 | D18: 1 | E18: 6 | F18: 0 | G18: 6 | H18: 0 | I18: 7
C19: 인도 | D19: 53 | E19: 78 | F19: 14 | G19: 92 | H19: 122 | I19: 267
C20: 인도네시아 | D20: 28 | E20: 8 | F20: 0 | G20: 8 | H20: 2 | I20: 38
C21: 일본 | D21: 2202 | E21: 9080 | F21: 2145 | G21: 11225 | H21: 2313 | I21: 15740
C22: 중국 3) | E22: 19675 | F22: 3810 | G22: 23485 | H22: 40342 | I22: 63827
C23: 홍콩,마카오 | D23: 0 | E23: 1248 | F23: 159 | G23: 1407 | H23: 46 | I23: 1453
C24: 카자흐스탄 | D24: 25 | E24: 62 | F24: 5 | G24: 67 | H24: 22 | I24: 114
C25: 캄보디아 | D25: 0 | E25: 59 | F25: 7 | G25: =E25+F25 -> 66 | H25: 0 | I25: 66
C26: 키르기스스탄 | D26: 47 | E26: 91 | F26: 12 | G26: 103 | H26: 6 | I26: 156
C27: 타지키스탄 | D27: 3 | E27: 6 | F27: 2 | G27: 8 | H27: 2 | I27: 13
C28: 태국 | E28: 451 | F28: 41 | G28: 492 | H28: 0 | I28: 492
C29: 투르크메니스탄 | D29: 0 | E29: 0 | F29: 0 | G29: 0 | H29: 0 | I29: 0
C30: 파키스탄 | D30: 7 | E30: 0 | F30: 2 | G30: 2 | I30: 9
C31: 파푸아뉴기니 | D31: 0 | E31: 0 | F31: 0 | G31: 0 | H31: 0
C32: 피지 | D32: 14 | E32: 31 | F32: 1 | G32: 32 | H32: 0 | I32: 46
C33: 필리핀 | D33: 8 | E33: 757 | F33: 116 | G33: 873 | H33: 19 | I33: 900
C34: 호주 | D34: 2408 | E34: 13372 | F34: 779 | G34: 14151 | H34: 242 | I34: 16801
C35: 소계 | D35: =SUM(D5:D34) -> 10301 | E35: =SUM(E5:E34) -> 50753 | F35: =SUM(F5:F34) -> 7415 | G35: =SUM(G5:G34) -> 58168 | H35: =SUM(H5:H34) -> 44664 | I35: =SUM(I5:I34) -> 113133
B36: 북미 | C36: 괌. 북마리아나 연방 | D36: 8 | E36: 73 | F36: 0 | G36: 73 | H36: 2 | I36: 83
C37: 미국 | D37: 4328 | E37: 30080 | F37: 16471 | G37: 46551 | H37: 7784 | I37: 58663
C38: 캐나다 2) | D38: 10826 | E38: 1265 | F38: 176 | G38: =E38+F38 -> 1441 | H38: 12 | I38: 12279
C39: 소계 | D39: =SUM(D36:D38) -> 15162 | E39: =SUM(E36:E38) -> 31418 | F39: =SUM(F36:F38) -> 16647 | G39: =SUM(G36:G38) -> 48065 | H39: =SUM(H36:H38) -> 7798 | I39: =SUM(I36:I38) -> 71025
B40: 중남미 | C40: 가이아나 | D40: 0 | E40: 0 | F40: 0 | G40: 0 | H40: 0 | I40: 0
...
