Workbook

Sheet 총괄
B2: 2018년도 국외 고등교육기관 한국인 유학생 통계
B4: (대학 이상)
B6: 1. 총괄
B8: 가. 연도별 유학생수
J9: (매년 4.1 기준, 단위 : 명)
B10: 연도 | C10: 2008년도 | D10: 2009년도 | E10: 2010년도 | F10: 2011년도 | G10: 2012년도 | H10: 2013년도 | I10: 2014년도 | J10: 2015년 | K10: 2016년 | L10: 2017년 | M10: 2018년
B11: 유학생수 | C11: 216867 | D11: 240949 | E11: 251887 | F11: 262465 | G11: 239213 | H11: 227126 | I11: 219543 | J11: 214696 | K11: =연도별!L152 -> 223908 | L11: =연도별!M152 -> 239824 | M11: =연도별!N152 -> 220930
B30: 나. 지역별 유학생수
G31: (2018.4.1 기준, 단위 ; 명)
B32: 지역 | C32: 어학연수 | D32: 학위과정 | G32: 기타연수 | H32: 합계
D33: 대학 | E33: 대학원 | F33: 소계
B34: 아시아·오세아니아 | C34: =과정별!D35 -> 10301 | D34: =과정별!E35 -> 50753 | E34: =과정별!F35 -> 7415 | F34: =과정별!G35 -> 58168 | G34: =과정별!H35 -> 44664 | H34: =C34+F34+G34 -> 113133
B35: 북미 | C35: =과정별!D39 -> 15162 | D35: =과정별!E39 -> 31418 | E35: =과정별!F39 -> 16647 | F35: =과정별!G39 -> 48065 | G35: =과정별!H39 -> 7798 | H35: =C35+F35+G35 -> 71025
B36: 중남미 | C36: =과정별!D62 -> 296 | D36: =과정별!E62 -> 82 | E36: =과정별!F62 -> 39 | F36: =과정별!G62 -> 121 | G36: =과정별!H62 -> 68 | H36: =C36+F36+G36 -> 485
B37: 유럽 | C37: =과정별!D103 -> 12547 | D37: =과정별!E103 -> 9094 | E37: =과정별!F103 -> 7836 | F37: =과정별!G103 -> 16930 | G37: =과정별!H103 -> 6033 | H37: =C37+F37+G37 -> 35510
B38: 중동 | C38: =과정별!D118 -> 55 | D38: =과정별!E118 -> 136 | E38: =과정별!F118 -> 85 | F38: =과정별!G118 -> 221 | G38: =과정별!H118 -> 132 | H38: =C38+F38+G38 -> 408
B39: 아프리카 | C39: =과정별!D150 -> 71 | D39: =과정별!E150 -> 208 | E39: =과정별!F150 -> 82 | F39: =과정별!G150 -> 290 | G39: =과정별!H150 -> 8 | H39: =C39+F39+G39 -> 369
B40: 합계 | C40: =SUM(C34:C39) -> 38432 | D40: =SUM(D34:D39) -> 91691 | E40: =SUM(E34:E39) -> 32104 | F40: =SUM(F34:F39) -> 123795 | G40: =SUM(G34:G39) -> 58703 | H40: =C40+F40+G40 -> 220930
B59: 다. 주요 국가별 현황
K60: (매년 4.1 기준, 단위 : 명)
B61: 연도 | C61: 미국 | D61: 중국 | E61: 영국 | F61: 호주 | G61: 일본 | H61: 캐나다 | I61: 뉴질랜드 | J61: 독일 | K61: 기타 | L61: 계
B62: 2017 | C62: 61007 | D62: 73240 | E62: 11065 | F62: 16770 | G62: 15457 | H62: 8735 | I62: 6060 | J62: 6087 | K62: 41403 | L62: 239824
B63: 비율(%) | C63: 25.438238 | D63: 30.539062 | E63: 4.6138001 | F63: 6.9926279 | G63: 6.4451431 | H63: 3.6422543 | I63: 2.526853 | J63: 2.5 | K63: 17.3 | L63: 100
B64: 2018 | C64: =과정별!I37 -> 58663 | D64: =과정별!I22 -> 63827 | E64: =과정별!I89 -> 10717 | F64: =과정별!I34 -> 16801 | G64: =과정별!I21 -> 15740 | H64: =과정별!I38 -> 12279 | I64: =과정별!I6 -> 5178 | J64: =과정별!I67 -> 6527 | K64: =L64-SUM(C64:J64) -> 31198 | L64: =H40 -> 220930
B65: 비율(%) | C65: =(C64/L64)*100 -> 26.552754 | D65: =(D64/L64)*100 -> 28.890146 | E65: =(E64/L64)*100 -> 4.8508577 | F65: =(F64/L64)*100 -> 7.6046712 | G65: =(G64/L64)*100 -> 7.1244286 | H65: =(H64/L64)*100 -> 5.557869 | I65: =(I64/L64)*100 -> 2.3437288 | J65: =(J64/L64)*100 -> 2.9543294 | K65: =(K64/L64)*100 -> 14.121215 | L65: =SUM(C65:K65) -> 100

Sheet 연도별
B1: 2. 연도별 한국인 유학생 현황
I2: (매년 4.1 기준, 단위 : 명)
B3: 지역 | C3: 국가 | D3: 2008년 | E3: 2009년 | F3: 2010년 | G3: 2011년 | H3: 2012년 | I3: 2013년 | J3: 2014년 | K3: 2015년 | L3: 2016년 | M3: 2017년 | N3: 2018년
B4: 아시아·오세아니아 | C4: 네팔 | D4: 1 | E4: 52 | F4: 4 | G4: 3 | H4: 167 | I4: 106 | J4: 171 | K4: 207 | L4: 206 | M4: 217 | N4: 190
C5: 뉴질랜드 | D5: 10183 | E5: 10992 | F5: 10992 | G5: 10289 | H5: 8033 | I5: 6271 | J5: 3556 | K5: 3097 | L5: 4051 | M5: 6060 | N5: 5178
C6: 대만 | D6: 1505 | E6: 1541 | F6: 1590 | G6: 1624 | H6: 1920 | I6: 1831 | J6: 2834 | K6: 2444 | L6: 3820 | M6: 4615 | N6: 4553
C7: 동티모르 | D7: 0 | E7: 0 | F7: 0 | G7: 0 | H7: 0 | I7: 0 | J7: 0 | K7: 2 | L7: 2 | M7: 3 | N7: 3
C8: 라오스 | D8: 5 | E8: 0 | F8: 13 | G8: 28 | H8: 48 | J8: 50 | K8: 25 | L8: 57 | M8: 52 | N8: 37
C9: 말레이시아 | D9: 830 | E9: 730 | F9: 713 | J9: 1182 | K9: 803 | L9: 1272 | M9: 1231 | N9: 1536
C10: 몽골 | D10: 130 | E10: 125 | F10: 135 | G10: 158 | H10: 158 | I10: 201 | J10: 203 | K10: 176 | L10: 137 | M10: 132 | N10: 135
C11: 미얀마 | D11: 23 | E11: 32 | F11: 24 | G11: 25 | H11: 37 | I11: 48 | J11: 48 | K11: 0 | L11: 88 | M11: 97 | N11: 87
C12: 바누아투 | D12: 0 | E12: 0 | F12: 0 | G12: 0 | H12: 0 | I12: 0 | J12: 0 | K12: 0 | L12: 0 | M12: 0
C13: 방글라데시 | D13: 1 | E13: 5 | F13: 5 | G13: 3 | H13: 0 | I13: 0 | J13: 0 | K13: 0 | L13: 0 | M13: 1 | N13: 3
C14: 베트남 | D14: 699 | E14: 534 | F14: 614 | G14: 840 | H14: 523 | I14: 319 | J14: 992 | K14: 992 | L14: 502 | M14: 695 | N14: 383
C15: 브루나이 | D15: 1 | E15: 1 | F15: 0 | G15: 0 | H15: 1 | I15: 6 | J15: 5 | K15: 2 | L15: 9 | M15: 8 | N15: 3
C16: 솔로몬제도 | D16: 0 | E16: 0 | F16: 0 | G16: 0 | H16: 0 | I16: 0 | J16: 0 | K16: 0 | L16: 0 | M16: 0
C17: 스리랑카 | D17: 71 | E17: 93 | F17: 138 | G17: 131 | H17: 157 | I17: 155 | J17: 98 | K17: 98 | L17: 90 | M17: 42 | N17: 28
C18: 싱가포르 | D18: 760 | E18: 106 | F18: 112 | G18: 144 | H18: 129 | I18: 281 | J18: 281 | L18: 600 | M18: 410 | N18: 1068
C19: 우즈베키스탄 | D19: 88 | E19: 120 | F19: 51 | G19: 85 | H19: 86 | I19: 55 | J19: 53 | K19: 19 | L19: 26 | M19: 18 | N19: 7
C20: 인도 | D20: 1175 | E20: 1378 | F20: 1086 | G20: 145 | H20: 543 | I20: 559 | J20: 656 | K20: 443 | L20: 291 | M20: 262 | N20: 267
C21: 인도네시아 | D21: 90 | E21: 69 | F21: 196 | G21: 288 | H21: 389 | I21: 267 | J21: 111 | K21: 345 | L21: 90 | M21: 61 | N21: 38
C22: 일본 | D22: 17274 | E22: 18862 | F22: 27965 | G22: 25692 | H22: 19994 | I22: 18919 | J22: 17283 | K22: 16374 | L22: 15279 | M22: 15457 | N22: 15740
C23: 중국 | D23: 57504 | E23: 66806 | F23: 64232 | G23: 62957 | H23: 62855 | I23: 63488 | J23: 63465 | K23: 62923 | L23: 66672 | M23: 73240 | N23: 63827
C24: 홍콩,마카오 | M24: 1344 | N24: 1453
C25: 카자흐스탄* | D25: 87 | E25: 113 | F25: 73 | G25: 73 | I25: 79 | J25: 151 | K25: 18 | L25: 168 | M25: 150 | N25: 114
C26: 캄보디아 | D26: 8 | E26: 22 | F26: 56 | G26: 72 | H26: 134 | I26: 57 | J26: 55 | K26: 59 | L26: 40 | M26: 52 | N26: 66
C27: 키르기스스탄 | D27: 88 | E27: 66 | F27: 118 | G27: 67 | H27: 84 | I27: 97 | J27: 74 | K27: 61 | L27: 92 | M27: 106 | N27: 156
C28: 타지키스탄 | D28: 0 | E28: 1 | F28: 0 | G28: 1 | H28: 7 | I28: 8 | J28: 8 | K28: 10 | L28: 14 | M28: 12 | N28: 13
C29: 태국 | D29: 188 | E29: 361 | F29: 420 | G29: 251 | H29: 600 | I29: 423 | J29: 601 | K29: 493 | L29: 445 | M29: 504 | N29: 492
C30: 투르크메니스탄 | D30: 0 | E30: 0 | F30: 0 | G30: 0 | H30: 0 | I30: 0 | J30: 0 | K30: 0 | L30: 0 | M30: 0 | N30: 0
C31: 파키스탄 | D31: 0 | E31: 1 | F31: 3 | G31: 2 | H31: 11 | I31: 12 | J31: 3 | K31: 0 | L31: 18 | M31: 8 | N31: 9
C32: 파푸아뉴기니 | D32: 0 | E32: 0 | F32: 0 | G32: 0 | I32: 0 | J32: 0 | K32: 0 | L32: 0 | M32: 0
C33: 피지 | D33: 40 | E33: 50 | F33: 40 | G33: 28 | H33: 101 | I33: 18 | J33: 38 | K33: 0 | L33: 25 | M33: 43 | N33: 46
C34: 필리핀** | D34: 1923 | E34: 2653 | F34: 2653 | G34: 3238 | H34: 3917 | I34: 4668 | J34: 7073 | K34: 1004 | L34: 3772 | M34: 13257 | N34: 900
C35: 호주 | D35: 16774 | E35: 18150 | F35: 17829 | G35: 33929 | H35: 17256 | I35: 14180 | J35: 14139 | K35: 14303 | L35: 16251 | M35: 16770 | N35: 16801
C36: 소계 | D36: =SUM(D4:D35) -> 109448 | E36: =SUM(E4:E35) -> 122863 | F36: =SUM(F4:F35) -> 129062 | G36: =SUM(G4:G35) -> 140073 | H36: =SUM(H4:H35) -> 117150 | I36: =SUM(I4:I35) -> 112048 | J36: =SUM(J4:J35) -> 113130 | K36: =SUM(K4:K35) -> 103898 | ... N36: =SUM(N4:N35) -> 113133
B37: 북미 | C37: 괌,북마리아나연방 | D37: 68 | E37: 0 | F37: 0 | G37: 121 | H37: 101 | I37: 93 | J37: 86 | K37: 89 | L37: 63 | M37: 93 | N37: 83
C38: 미국 | D38: 62392 | E38: 69124 | F38: 75065 | G38: 72153 | H38: 73351 | I38: 72295 | J38: 70627 | K38: 68105 | L38: 63710 | M38: 61007 | N38: 58663
C39: 캐나다 | D39: 10792 | E39: 15971 | F39: 14104 | G39: 15808 | H39: 20658 | I39: 12477 | J39: 9828 | K39: 10964 | L39: 10889 | M39: 8735 | N39: 12279
C40: 소계 | D40: =SUM(D37:D39) -> 73252 | E40: =SUM(E37:E39) -> 85095 | F40: =SUM(F37:F39) -> 89169 | G40: =SUM(G37:G39) -> 88082 | H40: =SUM(H37:H39) -> 94110 | I40: =SUM(I37:I39) -> 84865 | J40: =SUM(J37:J39) -> 80541 | K40: =SUM(K37:K39) -> 79158 | ... N40: =SUM(N37:N39) -> 71025
B41: 중남미 | C41: 과테말라 | D41: 33 | E41: 31 | F41: 1 | G41: 20 | H41: 43 | I41: 22 | J41: 0 | K41: 9 | L41: 9 | M41: 11 | N41: 13
C42: 니카라과 | E42: 0 | F42: 2 | G42: 0 | I42: 7 | J42: 9 | K42: 4 | M42: 0 | N42: 0
C43: 도미니카공화국 | D43: 1 | E43: 3 | F43: 2 | G43: 6 | H43: 1 | I43: 0 | J43: 0 | K43: 7 | L43: 6 | M43: 1 | N43: 0
C44: 멕시코 | D44: 83 | E44: 155 | F44: 147 | G44: 134 | H44: 142 | I44: 97 | J44: 293 | K44: 4 | M44: 229 | N44: 229
C45: 베네수엘라 | D45: 1 | E45: 0 | F45: 2 | G45: 0 | H45: 0 | I45: 1 | J45: 0 | K45: 0 | L45: 0 | M45: 0 | N45: 0
C46: 볼리비아 | D46: 12 | E46: 5 | F46: 12 | G46: 18 | H46: 15 | I46: 16 | J46: 14 | K46: 14 | L46: 8 | M46: 13 | N46: 11
C47: 브라질 | D47: 50 | E47: 51 | F47: 10 | G47: 41 | H47: 49 | I47: 50 | J47: 43 | K47: 76 | L47: 102 | M47: 91 | N47: 58
C48: 아르헨티나 | D48: 16 | E48: 2 | F48: 9 | G48: 4 | H48: 10 | I48: 9 | J48: 7 | K48: 16 | L48: 12 | M48: 15 | N48: 8
C49: 에콰도르 | D49: 17 | E49: 0 | F49: 0 | G49: 4 | H49: 4 | I49: 12 | J49: 27 | K49: 28 | L49: 29 | M49: 21 | N49: 19
C50: 엘살바도르 | D50: 2 | E50: 0 | F50: 0 | G50: 0 | H50: 0 | I50: 0 | J50: 0 | K50: 0 | L50: 0 | M50: 0 | N50: 0
C51: 온두라스 | D51: 3 | E51: 3 | F51: 3 | G51: 0 | I51: 0 | J51: 0 | K51: 1 | L51: 1 | M51: 1 | N51: 1
C52: 우루과이 | D52: 0 | E52: 0 | F52: 0 | G52: 0 | H52: 0 | I52: 2 | J52: 2 | K52: 3 | L52: 2 | M52: 0 | N52: 0
C53: 자메이카 | D53: 1 | E53: - | F53: 0 | G53: 0 | H53: 0 | I53: 2 | J53: 1 | K53: 2 | L53: 1 | M53: 0 | N53: 2
C54: 그레나다 | M54: 22 | N54: 35
C55: 칠레 | D55: 14 | E55: 11 | F55: 8 | G55: 7 | H55: 3 | I55: 7 | J55: 13 | K55: 39 | L55: 11 | M55: 16 | N55: 19
C56: 코스타리카 | D56: 3 | E56: 0 | F56: 19 | G56: 22 | H56: 16 | I56: 23 | J56: 16 | K56: 15 | L56: 21 | M56: 7 | N56: 5
C57: 콜롬비아 | D57: 2 | E57: 2 | F57: 21 | G57: 35 | H57: 56 | I57: 14 | J57: 35 | K57: 37 | L57: 71 | M57: 42 | N57: 68
C58: 파나마 | D58: 2 | E58: 0 | F58: 9 | G58: 5 | H58: 7 | I58: 5 | J58: 7 | K58: 7 | L58: 6 | M58: 9 | N58: 9
C59: 파라과이 | D59: 4 | E59: 0 | F59: 8 | G59: 5 | H59: 4 | I59: 0 | J59: 0 | K59: 0 | L59: 1 | M59: 2 | N59: 0
C60: 페루 | D60: 7 | E60: 10 | F60: 13 | G60: 20 | H60: 13 | I60: 20 | J60: 11 | K60: 15 | L60: 27 | M60: 21 | N60: 8
C61: 소계 | D61: =SUM(D41:D60) -> 251 | E61: =SUM(E41:E60) -> 273 | F61: =SUM(F41:F60) -> 266 | G61: =SUM(G41:G60) -> 321 | H61: =SUM(H41:H60) -> 363 | I61: =SUM(I41:I60) -> 287 | J61: =SUM(J41:J60) -> 478 | K61: =SUM(K41:K60) -> 277 | ... N61: =SUM(N41:N60) -> 485
B62: 유럽 | C62: 그리스 | D62: 10 | E62: 7 | F62: 9 | G62: 7 | H62: 5 | I62: 4 | J62: 6 | K62: 6 | L62: 11 | M62: 10 | N62: 4
C63: 네덜란드 | D63: 235 | E63: 231 | F63: 250 | G63: 250 | H63: 280 | I63: 582 | J63: 644 | K63: 691 | L63: 762 | M63: 1085 | N63: 1913
C64: 노르웨이 | D64: 22 | E64: 36 | F64: 26 | G64: 55 | H64: 46 | I64: 125 | J64: 108 | K64: 137 | L64: 155 | M64: 114 | N64: 214
C65: 덴마크 | D65: 21 | E65: 3 | F65: 5 | G65: 59 | H65: 10 | I65: 60 | J65: 66 | K65: 67 | L65: 77 | M65: 94 | N65: 52
C66: 독일 | D66: 5775 | E66: 5003 | F66: 5209 | G66: 6293 | H66: 5280 | I66: 5222 | J66: 5287 | K66: 5518 | L66: 5792 | M66: 6087 | N66: 6527
C67: 라트비아 | D67: 0 | E67: 0 | F67: 0 | G67: 0 | H67: 0 | I67: 0 | J67: 0 | K67: 19 | L67: 28 | M67: 35 | N67: 33
C68: 러시아 | D68: 1468 | E68: 934 | F68: 899 | G68: 822 | H68: 156 | I68: 1592 | J68: 1609 | K68: 1750 | L68: 1729 | M68: 1855 | N68: 2105
C69: 루마니아 | D69: 15 | E69: 12 | F69: 20 | G69: 9 | H69: 11 | I69: 26 | J69: 39 | K69: 28 | L69: 25 | M69: 21 | N69: 22
C70: 룩셈부르크 | D70: 0 | E70: 0 | F70: 0 | G70: 0 | J70: 0 | K70: 0 | L70: 0 | M70: 4 | N70: 4
C71: 리투아니아 | D71: 0 | E71: 0 | F71: 3 | G71: 2 | H71: 15 | I71: 72 | J71: 96 | K71: 130 | L71: 86 | M71: 63 | N71: 97
C72: 몰도바 | D72: 0 | E72: 0 | F72: 0 | G72: 0 | H72: 0 | I72: 0 | J72: 0 | K72: 11 | L72: 14 | M72: 9 | N72: 0
C73: 벨기에 | D73: 33 | E73: 36 | F73: 38 | G73: 51 | H73: 62 | I73: 0 | J73: 0 | K73: 104 | L73: 128 | M73: 95 | N73: 132
C74: 벨라루스 | D74: 0 | E74: 32 | F74: 44 | G74: 43 | H74: 59 | I74: 71 | J74: 107 | K74: 87 | L74: 57 | M74: 45 | N74: 42
C75: 불가리아 | D75: 19 | E75: 15 | F75: 12 | G75: 8 | H75: 8 | I75: 15 | J75: 12 | K75: 10 | L75: 23 | M75: 19 | N75: 18
C76: 사이프러스 | D76: 0 | E76: 0 | F76: 0 | G76: 0 | H76: 0 | I76: 0 | J76: 3 | K76: 0 | L76: 0 | M76: 0 | N76: 0
C77: 세르비아 | D77: 5 | E77: 0 | F77: 1 | G77: 4 | H77: 4 | I77: 1 | J77: 6 | K77: 7 | L77: 3 | M77: 2 | N77: 5
C78: 스웨덴 | D78: 35 | E78: 44 | F78: 91 | G78: 95 | H78: 107 | I78: 95 | J78: 266 | K78: 81 | L78: 340 | M78: 318 | N78: 326
C79: 스위스 | D79: 150 | E79: 109 | F79: 156 | G79: 181 | H79: 252 | I79: 187 | J79: 201 | K79: 67 | L79: 482 | M79: 304 | N79: 332
C80: 스페인 | D80: 134 | E80: 150 | F80: 163 | G80: 181 | H80: 115 | I80: 139 | J80: 173 | K80: 156 | L80: 258 | M80: 291 | N80: 315
C81: 슬로바키아 | D81: 8 | E81: 5 | F81: 3 | G81: 0 | H81: 1 | I81: 2 | J81: 2 | K81: 1 | L81: 2 | M81: 4 | N81: 4
C82: 슬로베니아 | D82: 1 | E82: 1 | F82: 8 | G82: 8 | H82: 9 | I82: 11 | J82: 8 | K82: 12 | L82: 17 | M82: 17 | N82: 17
... C85: 아제르바이잔 | D85: 2 | E85: 5 | F85: 19 | G85: 19 | H85: 23 | I85: 33 | J85: 29 | K85: 26 | L85: 15 | M85: 15 | N85: 20
C86: 에스토니아 | D86: 1 | E86: 0 | F86: 0 | G86: 10 | I86: 8 | J86: 10 | K86: 27 | L86: 38 | M86: 31 | N86: 29
C87: 영국 | D87: 17000 | E87: 17031 | F87: 17275 | G87: 17310 | H87: 12580 | I87: 12512 | J87: 7062 | K87: 13002 | L87: 11885 | M87: 11065 | N87: 10717
C88: 오스트리아 | D88: 850 | E88: 900 | F88: 455 | G88: 726 | H88: 523 | I88: 738 | J88: 800 | K88: 797 | L88: 760 | M88: 729 | N88: 775
C89: 우크라이나 | D89: 38 | E89: 34 | F89: 36 | G89: 56 | H89: 30 | I89: 45 | J89: 60 | K89: 40 | L89: 69 | M89: 49 | N89: 40
C90: 이탈리아 | D90: 632 | E90: 606 | F90: 496 | G90: 379 | H90: 727 | I90: 529 | J90: 529 | K90: 498 | L90: 943 | M90: 1184 | N90: 1212
C91: 조지아 | D91: 0 | E91: 0 | F91: 0 | G91: 0 | H91: 0 | I91: 0 | J91: 0 | K91: 1 | L91: 0 | M91: 0 | N91: 1
C92: 체코 | D92: 97 | E92: 120 | F92: 71 | G92: 61 | H92: 48 | I92: 114 | J92: 74 | K92: 89 | L92: 100 | M92: 242 | N92: 57
C93: 코소보 | E93: 0 | F93: 0 | G93: 0 | I93: 0 | J93: 2 | K93: 2 | L93: 1 | M93: 1 | N93: 1
C94: 크로아티아 | D94: 1 | E94: 3 | F94: 4 | G94: 0 | H94: 5 | I94: 7 | J94: 6 | K94: 7 | L94: 21 | M94: 15 | N94: 19
C95: 터키 | D95: 36 | E95: 22 | F95: 94 | G95: 37 | H95: 69 | I95: 60 | J95: 64 | K95: 64 | L95: 216 | M95: 216 | N95: 210
C96: 포르투갈 | D96: 29 | E96: 25 | F96: 21 | G96: 12 | H96: 24 | I96: 19 | J96: 36 | K96: 52 | L96: 60 | M96: 72 | N96: 77
C97: 폴란드 | D97: 61 | E97: 55 | F97: 69 | G97: 69 | H97: 49 | I97: 80 | J97: 66 | K97: 84 | L97: 131 | M97: 120 | N97: 234
C98: 프랑스 | D98: 6000 | E98: 6215 | F98: 6215 | G98: 5507 | H98: 5507 | I98: 6325 | J98: 6433 | K98: 6475 | L98: 6580 | M98: 6655 | N98: 6475
C99: 핀란드 | D99: 19 | E99: 29 | F99: 74 | G99: 55 | H99: 38 | I99: 51 | J99: 66 | K99: 280 | L99: 246 | M99: 470 | N99: 467
C100: 헝가리 | D100: 81 | E100: 115 | F100: 88 | G100: 279 | H100: 300 | I100: 272 | J100: 343 | K100: 344 | L100: 315 | M100: 421 | N100: 501
C101: 알바니아 | N101: 1
C102: 소계 | D102: =SUM(D62:D100) -> 33629 | E102: =SUM(E62:E100) -> 32348 | F102: =SUM(F62:F100) -> 32357 | G102: =SUM(G62:G100) -> 33274 | H102: =SUM(H62:H100) -> 26957 | I102: =SUM(I62:I100) -> 29462 | J102: =SUM(J62:J100) -> 24877 | K102: =SUM(K62:K100) -> 30896 | ... M102: =SUM(M62:M100) -> 34110 | N102: =SUM(N62:N101) -> 35510
...

Sheet 과정별
B1: 3. 2018년 과정별 한국인 유학생 현황
H2: (2018.4.1 기준, 단위 ; 명)
B3: 지역 | C3: 국 가 | D3: 어학연수 | E3: 학 위 과 정 | H3: 기타연수 | I3: 합 계
E4: 대학 | F4: 대학원 | G4: 소계
B5: 아시아·오세아니아 | C5: 네팔 | D5: 153 | E5: 35 | F5: 0 | G5: =F5+E5 -> 35 | H5: 2 | I5: 190
C6: 뉴질랜드 | D6: 2561 | E6: 2552 | F6: 65 | G6: 2617 | H6: 0 | I6: 5178
C7: 대만 | D7: 2658 | E7: 568 | F7: 178 | G7: 746 | H7: 1149 | I7: 4553
C8: 동티모르 | D8: 0 | E8: 3 | F8: 0 | G8: 3 | H8: 0 | I8: 3
C9: 라오스 | D9: 15 | E9: 22 | F9: 0 | G9: 22 | H9: 0 | I9: 37
C10: 말레이시아 3) | E10: 1190 | F10: 29 | G10: 1219 | H10: 317 | I10: 1536
C11: 몽골 | D11: 19 | E11: 91 | F11: 25 | G11: 116 | H11: 0 | I11: 135
C12: 미얀마 | D12: 33 | E12: 50 | F12: 4 | G12: 54 | H12: 0 | I12: 87
C13: 방글라데시 | D13: 0 | E13: 1 | F13: 2 | G13: =F13+E13 -> 3 | H13: 0 | I13: 3
C14: 베트남 | D14: 50 | E14: 244 | F14: 9 | G14: =E14+F14 -> 253 | H14: 80 | I14: =D14+G14+H14 -> 383
C15: 브루나이 | D15: 0 | E15: 2 | F15: 1 | G15: 3 | H15: 0 | I15: 3
C16: 스리랑카 | D16: 16 | E16: 3 | F16: 9 | G16: 12 | H16: 0 | I16: 28
C17: 싱가포르 1) | E17: 1068 | G17: 1068 | I17: 1068
C18: 우즈베키스탄 | D18: 1 | E18: 6 | F18: 0 | G18: 6 | H18: 0 | I18: 7
C19: 인도 | D19: 53 | E19: 78 | F19: 14 | G19: 92 | H19: 122 | I19: 267
C20: 인도네시아 | D20: 28 | E20: 8 | F20: 0 | G20: 8 | H20: 2 | I20: 38
C21: 일본 | D21: 2202 | E21: 9080 | F21: 2145 | G21: 11225 | H21: 2313 | I21: 15740
C22: 중국 3) | E22: 19675 | F22: 3810 | G22: 23485 | H22: 40342 | I22: 63827
C23: 홍콩,마카오 | D23: 0 | E23: 1248 | F23: 159 | G23: 1407 | H23: 46 | I23: 1453
C24: 카자흐스탄 | D24: 25 | E24: 62 | F24: 5 | G24: 67 | H24: 22 | I24: 114
C25: 캄보디아 | D25: 0 | E25: 59 | F25: 7 | G25: =E25+F25 -> 66 | H25: 0 | I25: 66
C26: 키르기스스탄 | D26: 47 | E26: 91 | F26: 12 | G26: 103 | H26: 6 | I26: 156
C27: 타지키스탄 | D27: 3 | E27: 6 | F27: 2 | G27: 8 | H27: 2 | I27: 13
C28: 태국 | E28: 451 | F28: 41 | G28: 492 | H28: 0 | I28: 492
C29: 투르크메니스탄 | D29: 0 | E29: 0 | F29: 0 | G29: 0 | H29: 0 | I29: 0
C30: 파키스탄 | D30: 7 | E30: 0 | F30: 2 | G30: 2 | I30: 9
C31: 파푸아뉴기니 | D31: 0 | E31: 0 | F31: 0 | G31: 0 | H31: 0
C32: 피지 | D32: 14 | E32: 31 | F32: 1 | G32: 32 | H32: 0 | I32: 46
C33: 필리핀 | D33: 8 | E33: 757 | F33: 116 | G33: 873 | H33: 19 | I33: 900
C34: 호주 | D34: 2408 | E34: 13372 | F34: 779 | G34: 14151 | H34: 242 | I34: 16801
C35: 소계 | D35: =SUM(D5:D34) -> 10301 | E35: =SUM(E5:E34) -> 50753 | F35: =SUM(F5:F34) -> 7415 | G35: =SUM(G5:G34) -> 58168 | H35: =SUM(H5:H34) -> 44664 | I35: =SUM(I5:I34) -> 113133
B36: 북미 | C36: 괌. 북마리아나 연방 | D36: 8 | E36: 73 | F36: 0 | G36: 73 | H36: 2 | I36: 83
C37: 미국 | D37: 4328 | E37: 30080 | F37: 16471 | G37: 46551 | H37: 7784 | I37: 58663
C38: 캐나다 2) | D38: 10826 | E38: 1265 | F38: 176 | G38: =E38+F38 -> 1441 | H38: 12 | I38: 12279
C39: 소계 | D39: =SUM(D36:D38) -> 15162 | E39: =SUM(E36:E38) -> 31418 | F39: =SUM(F36:F38) -> 16647 | G39: =SUM(G36:G38) -> 48065 | H39: =SUM(H36:H38) -> 7798 | I39: =SUM(I36:I38) -> 71025
B40: 중남미 | C40: 가이아나 | D40: 0 | E40: 0 | F40: 0 | G40: 0 | H40: 0 | I40: 0
C41: 과테말라 | D41: 0 | E41: 13 | F41: 0 | G41: 13 | H41: 0 | I41: 13
C42: 니카라과 | D42: 0 | E42: 0 | F42: 0 | G42: 0 | H42: 0 | I42: 0
C43: 도미니카 | D43: 0 | E43: 0 | F43: 0 | G43: 0 | H43: 0 | I43: 0
C44: 멕시코 2) | D44: 229 | H44: 0 | I44: 229
C45: 베네수엘라 | D45: 0 | E45: 0 | F45: 0 | G45: 0 | H45: 0 | I45: 0
C46: 볼리비아 | D46: 0 | E46: 9 | F46: 0 | G46: 9 | H46: 2 | I46: 11
C47: 브라질 | D47: 17 | E47: 0 | F47: 1 | G47: 1 | H47: 40 | I47: 58
C48: 수리남 | D48: 0 | E48: 0 | F48: 0 | G48: 0 | H48: 0 | I48: 0
C49: 아르헨티나 | D49: 3 | E49: 4 | F49: 1 | G49: 5 | H49: 0 | I49: 8
C50: 에콰도르 | D50: 13 | E50: 3 | F50: 1 | G50: 4 | H50: 2 | I50: 19
C51: 엘살바도르 | D51: 0 | E51: 0 | F51: 0 | G51: 0 | H51: 0 | I51: 0
C52: 온두라스 | D52: 0 | E52: 1 | F52: 0 | G52: 1 | H52: 0 | I52: 1
C53: 우루과이 | D53: 0 | E53: 0 | F53: 0 | G53: 0 | H53: 0 | I53: 0
C54: 자메이카 | D54: 0 | E54: 2 | F54: 0 | G54: 2 | H54: 0 | I54: 2
C55: 그레나다 | D55: 0 | E55: 5 | F55: 30 | G55: 35 | H55: 0 | I55: 35
C56: 칠레 | D56: 3 | E56: 16 | F56: 0 | G56: 16 | H56: 0 | I56: 19
... C61: 페루 | D61: 1 | E61: 0 | F61: 0 | G61: 0 | H61: 7 | I61: 8
C62: 소계 | D62: =SUM(D40:D61) -> 296 | E62: =SUM(E40:E61) -> 82 | F62: =SUM(F40:F61) -> 39 | G62: =SUM(G40:G61) -> 121 | H62: =SUM(H40:H61) -> 68 | I62: =SUM(I40:I61) -> 485
B63: 유럽 | C63: 그리스 | D63: 2 | E63: 0 | F63: 2 | G63: 2 | I63: 4
C64: 네델란드 | E64: 602 | F64: 175 | G64: 777 | H64: 1136 | I64: 1913
C65: 노르웨이 | E65: 147 | F65: 67 | G65: 214 | I65: 214
C66: 덴마크 | D66: 0 | E66: 1 | F66: 18 | G66: 19 | H66: 33 | I66: 52
C67: 독일 | D67: 0 | E67: 2037 | F67: 2742 | G67: =F67+E67 -> 4779 | H67: 1748 | I67: 6527
C68: 라트비아 | D68: 0 | E68: 10 | F68: 0 | G68: 10 | H68: 23 | I68: 33
C69: 러시아 | D69: 455 | E69: 399 | F69: 301 | G69: 700 | H69: 950 | I69: 2105
C70: 루마니아 | D70: 0 | E70: 3 | F70: 3 | G70: 6 | H70: 16 | I70: 22
C71: 룩셈부르크 | D71: 0 | E71: 0 | F71: 4 | G71: 4 | H71: 0 | I71: 4
C72: 리투아니아 | D72: 1 | E72: 9 | F72: 4 | G72: 13 | H72: 83 | I72: 97
C73: 몰도바 | D73: 0 | E73: 0 | F73: 0 | G73: 0 | H73: 0 | I73: 0
C74: 벨기에 | D74: 0 | E74: 29 | F74: 75 | G74: 104 | H74: 28 | I74: 132
C75: 벨라루스 | D75: 25 | E75: 7 | F75: 10 | G75: 17 | H75: 0 | I75: 42
C76: 불가리아 | D76: 0 | E76: 8 | F76: 5 | G76: 13 | H76: 5 | I76: 18
C77: 사이프러스(키프로스) | D77: 0 | E77: 0 | F77: 0 | G77: 0 | H77: 0 | I77: 0
C78: 알바니아 | D78: 0 | E78: 1 | F78: 0 | G78: 1 | H78: 0 | I78: 1
C79: 세르비아 | D79: 4 | E79: 0 | F79: 1 | G79: 1 | H79: 0 | I79: 5
C80: 스웨덴 1) | E80: 31 | G80: 31 | H80: 295 | I80: 326
C81: 스위스 | E81: 95 | F81: 208 | G81: 303 | H81: 29 | I81: 332
C82: 스페인 | E82: 177 | F82: 138 | G82: =E82+F82 -> 315 | H82: 0 | I82: 315
C83: 슬로바키아 | D83: 0 | E83: 3 | F83: 1 | G83: 4 | H83: 0 | I83: 4
C84: 슬로베니아 | D84: 0 | E84: 4 | F84: 1 | G84: 5 | H84: 12 | I84: 17
C85: 아이슬란드 | D85: 0 | E85: 0 | F85: 5 | G85: 5 | H85: 0 | I85: 5
C86: 아일랜드 | D86: 2436 | E86: 55 | F86: 16 | G86: 71 | H86: 0 | I86: 2507
C87: 아제르바이잔 | D87: 13 | E87: 4 | F87: 3 | G87: 7 | H87: 0 | I87: 20
C88: 에스토니아 | D88: 0 | E88: 15 | F88: 14 | G88: 29 | H88: 0 | I88: 29
C89: 영국 | D89: 5677 | E89: 3005 | F89: 1860 | G89: 4865 | H89: 175 | I89: 10717
C90: 오스트리아 | E90: 465 | F90: 310 | G90: 775 | I90: 775
C91: 우크라이나 | D91: 0 | E91: 12 | F91: 9 | G91: 21 | H91: 19 | I91: 40
C92: 이탈리아 | D92: 235 | E92: 429 | F92: 170 | G92: 599 | H92: 378 | I92: 1212
C93: 조지아 | D93: 0 | E93: 1 | F93: 0 | G93: 1 | H93: 0 | I93: 1
C94: 체코 | D94: 0 | E94: 29 | F94: 27 | G94: 56 | H94: 1 | I94: 57
C95: 코소보 | D95: 0 | E95: 1 | F95: 0 | G95: 1 | H95: 0 | I95: 1
C96: 크로아티아 | D96: 3 | E96: 5 | F96: 0 | G96: 5 | H96: 11 | I96: 19
C97: 터키 | E97: 131 | F97: 79 | G97: 210 | I97: 210
C98: 포르투갈 | D98: 38 | E98: 3 | F98: 5 | G98: 8 | H98: 31 | I98: 77
C99: 폴란드 | D99: 33 | E99: 77 | F99: 39 | G99: 116 | H99: 85 | I99: 234
C100: 프랑스 | D100: 3321 | E100: 1230 | F100: 986 | G100: =F100+E100 -> 2216 | H100: 938 | I100: 6475
C101: 핀란드 | D101: 298 | E101: 49 | F101: 120 | G101: 169 | H101: 0 | I101: 467
C102: 헝가리 | D102: 6 | E102: 20 | F102: 438 | G102: 458 | H102: 37 | I102: 501
C103: 소계 | D103: =SUM(D63:D102) -> 12547 | E103: =SUM(E63:E102) -> 9094 | F103: =SUM(F63:F102) -> 7836 | G103: =SUM(G63:G102) -> 16930 | H103: =SUM(H63:H102) -> 6033 | I103: =SUM(I63:I102) -> 35510
B104: 중동 | C104: 레바논 | D104: 0 | E104: 1 | F104: 1 | G104: 2 | H104: 1 | I104: 3
...
